BEGIN:VCALENDAR
VERSION:2.0
PRODID:-//Centro de Lenguas Almeria - ECPv6.15.20//NONSGML v1.0//EN
CALSCALE:GREGORIAN
METHOD:PUBLISH
X-WR-CALNAME:Centro de Lenguas Almeria
X-ORIGINAL-URL:https://centrolenguasalmeria.com
X-WR-CALDESC:Eventos para Centro de Lenguas Almeria
REFRESH-INTERVAL;VALUE=DURATION:PT1H
X-Robots-Tag:noindex
X-PUBLISHED-TTL:PT1H
BEGIN:VTIMEZONE
TZID:Europe/Madrid
BEGIN:DAYLIGHT
TZOFFSETFROM:+0100
TZOFFSETTO:+0200
TZNAME:CEST
DTSTART:20250330T010000
END:DAYLIGHT
BEGIN:STANDARD
TZOFFSETFROM:+0200
TZOFFSETTO:+0100
TZNAME:CET
DTSTART:20251026T010000
END:STANDARD
BEGIN:DAYLIGHT
TZOFFSETFROM:+0100
TZOFFSETTO:+0200
TZNAME:CEST
DTSTART:20260329T010000
END:DAYLIGHT
BEGIN:STANDARD
TZOFFSETFROM:+0200
TZOFFSETTO:+0100
TZNAME:CET
DTSTART:20261025T010000
END:STANDARD
BEGIN:DAYLIGHT
TZOFFSETFROM:+0100
TZOFFSETTO:+0200
TZNAME:CEST
DTSTART:20270328T010000
END:DAYLIGHT
BEGIN:STANDARD
TZOFFSETFROM:+0200
TZOFFSETTO:+0100
TZNAME:CET
DTSTART:20271031T010000
END:STANDARD
END:VTIMEZONE
BEGIN:VEVENT
DTSTART;VALUE=DATE:20260515
DTEND;VALUE=DATE:20260516
DTSTAMP:20260421T162511
CREATED:20260421T131700Z
LAST-MODIFIED:20260421T131700Z
UID:5568-1778803200-1778889599@centrolenguasalmeria.com
SUMMARY:APTIS ESOL Almería AM
DESCRIPTION:APTIS ESOL. Sesión AM (10:00 – 14:00). Inscripciones abiertas.
URL:https://centrolenguasalmeria.com/event/aptis-esol-almeria-am/
LOCATION:Centro de Lenguas Almeria (centro ciudad)\, C/ Doctor Giménez Canga-Argüelles 29\, Almería\, Almería\, 04005\, España
ATTACH;FMTTYPE=image/png:https://centrolenguasalmeria.com/wp-content/uploads/2025/11/Aptis-ESOL_Test-Venue-scaled.png
END:VEVENT
BEGIN:VEVENT
DTSTART;VALUE=DATE:20260521
DTEND;VALUE=DATE:20260522
DTSTAMP:20260421T162511
CREATED:20251108T102634Z
LAST-MODIFIED:20260406T141847Z
UID:5147-1779321600-1779407999@centrolenguasalmeria.com
SUMMARY:APTIS ESOL Almería AM
DESCRIPTION:APTIS ESOL. Sesión AM (10:00 – 14:00). Inscripciones abiertas.
URL:https://centrolenguasalmeria.com/event/aptis-esol-almeria-am-10/
LOCATION:Centro de Lenguas Almeria (centro ciudad)\, C/ Doctor Giménez Canga-Argüelles 29\, Almería\, Almería\, 04005\, España
ATTACH;FMTTYPE=image/png:https://centrolenguasalmeria.com/wp-content/uploads/2025/11/Aptis-ESOL_Test-Venue-scaled.png
END:VEVENT
BEGIN:VEVENT
DTSTART;VALUE=DATE:20260523
DTEND;VALUE=DATE:20260524
DTSTAMP:20260421T162511
CREATED:20251108T102747Z
LAST-MODIFIED:20260406T142116Z
UID:5149-1779494400-1779580799@centrolenguasalmeria.com
SUMMARY:APTIS ESOL Roquetas de Mar AM
DESCRIPTION:APTIS ESOL. Sesión AM (10:00 – 14:00). Inscripciones abiertas.
URL:https://centrolenguasalmeria.com/event/aptis-esol-roquetas-de-mar-am-7/
LOCATION:Centro de Lenguas Almeria (Roquetas de Mar)\, Avenida Reino de España\, 80\, Roquetas de Mar\, Almería\, 04740\, España
ATTACH;FMTTYPE=image/png:https://centrolenguasalmeria.com/wp-content/uploads/2025/11/Aptis-ESOL_Test-Venue-scaled.png
END:VEVENT
BEGIN:VEVENT
DTSTART;VALUE=DATE:20260523
DTEND;VALUE=DATE:20260524
DTSTAMP:20260421T162511
CREATED:20260416T130313Z
LAST-MODIFIED:20260416T130313Z
UID:5560-1779494400-1779580799@centrolenguasalmeria.com
SUMMARY:APTIS ESOL Roquetas de Mar PM
DESCRIPTION:APTIS ESOL. Sesión PM (15:00 – 19:00). Inscripciones abiertas.
URL:https://centrolenguasalmeria.com/event/aptis-esol-roquetas-de-mar-pm/
LOCATION:Centro de Lenguas Almeria (Roquetas de Mar)\, Avenida Reino de España\, 80\, Roquetas de Mar\, Almería\, 04740\, España
ATTACH;FMTTYPE=image/png:https://centrolenguasalmeria.com/wp-content/uploads/2025/11/Aptis-ESOL_Test-Venue-scaled.png
END:VEVENT
BEGIN:VEVENT
DTSTART;VALUE=DATE:20260528
DTEND;VALUE=DATE:20260529
DTSTAMP:20260421T162511
CREATED:20251108T102859Z
LAST-MODIFIED:20260406T142346Z
UID:5151-1779926400-1780012799@centrolenguasalmeria.com
SUMMARY:APTIS ESOL Almería AM
DESCRIPTION:APTIS ESOL. Sesión AM (10:00 – 14:00). Inscripciones abiertas.
URL:https://centrolenguasalmeria.com/event/aptis-esol-almeria-am-11/
LOCATION:Centro de Lenguas Almeria (centro ciudad)\, C/ Doctor Giménez Canga-Argüelles 29\, Almería\, Almería\, 04005\, España
ATTACH;FMTTYPE=image/png:https://centrolenguasalmeria.com/wp-content/uploads/2025/11/Aptis-ESOL_Test-Venue-scaled.png
END:VEVENT
BEGIN:VEVENT
DTSTART;VALUE=DATE:20260529
DTEND;VALUE=DATE:20260530
DTSTAMP:20260421T162511
CREATED:20251108T103016Z
LAST-MODIFIED:20260406T142620Z
UID:5153-1780012800-1780099199@centrolenguasalmeria.com
SUMMARY:APTIS ESOL Almería AM
DESCRIPTION:APTIS ESOL. Sesión AM (10:00 – 14:00). Inscripciones abiertas.
URL:https://centrolenguasalmeria.com/event/aptis-esol-almeria-am-12/
LOCATION:Centro de Lenguas Almeria (centro ciudad)\, C/ Doctor Giménez Canga-Argüelles 29\, Almería\, Almería\, 04005\, España
ATTACH;FMTTYPE=image/png:https://centrolenguasalmeria.com/wp-content/uploads/2025/11/Aptis-ESOL_Test-Venue-scaled.png
END:VEVENT
BEGIN:VEVENT
DTSTART;VALUE=DATE:20260529
DTEND;VALUE=DATE:20260530
DTSTAMP:20260421T162511
CREATED:20251108T103137Z
LAST-MODIFIED:20260406T142842Z
UID:5155-1780012800-1780099199@centrolenguasalmeria.com
SUMMARY:APTIS ESOL Almería PM
DESCRIPTION:APTIS ESOL. Sesión PM (15:00 – 19:00). Inscripciones abiertas.
URL:https://centrolenguasalmeria.com/event/aptis-esol-almeria-pm-6/
LOCATION:Centro de Lenguas Almeria (centro ciudad)\, C/ Doctor Giménez Canga-Argüelles 29\, Almería\, Almería\, 04005\, España
ATTACH;FMTTYPE=image/png:https://centrolenguasalmeria.com/wp-content/uploads/2025/11/Aptis-ESOL_Test-Venue-scaled.png
END:VEVENT
BEGIN:VEVENT
DTSTART;VALUE=DATE:20260530
DTEND;VALUE=DATE:20260531
DTSTAMP:20260421T162511
CREATED:20251108T103245Z
LAST-MODIFIED:20260406T143051Z
UID:5157-1780099200-1780185599@centrolenguasalmeria.com
SUMMARY:APTIS ESOL Almería AM
DESCRIPTION:APTIS ESOL. Sesión AM (10:00 – 14:00). Inscripciones abiertas.
URL:https://centrolenguasalmeria.com/event/aptis-esol-almeria-am-18/
LOCATION:Centro de Lenguas Almeria (centro ciudad)\, C/ Doctor Giménez Canga-Argüelles 29\, Almería\, Almería\, 04005\, España
ATTACH;FMTTYPE=image/png:https://centrolenguasalmeria.com/wp-content/uploads/2025/11/Aptis-ESOL_Test-Venue-scaled.png
END:VEVENT
BEGIN:VEVENT
DTSTART;VALUE=DATE:20260530
DTEND;VALUE=DATE:20260531
DTSTAMP:20260421T162511
CREATED:20251108T103353Z
LAST-MODIFIED:20260406T143252Z
UID:5159-1780099200-1780185599@centrolenguasalmeria.com
SUMMARY:APTIS ESOL Almería PM
DESCRIPTION:APTIS ESOL. Sesión PM (15:00 – 19:00). Inscripciones abiertas.
URL:https://centrolenguasalmeria.com/event/aptis-esol-almeria-pm-7/
LOCATION:Centro de Lenguas Almeria (centro ciudad)\, C/ Doctor Giménez Canga-Argüelles 29\, Almería\, Almería\, 04005\, España
ATTACH;FMTTYPE=image/png:https://centrolenguasalmeria.com/wp-content/uploads/2025/11/Aptis-ESOL_Test-Venue-scaled.png
END:VEVENT
END:VCALENDAR