BEGIN:VCALENDAR
VERSION:2.0
PRODID:-//Centro de Lenguas Almeria - ECPv6.15.20//NONSGML v1.0//EN
CALSCALE:GREGORIAN
METHOD:PUBLISH
X-ORIGINAL-URL:https://centrolenguasalmeria.com
X-WR-CALDESC:Eventos para Centro de Lenguas Almeria
REFRESH-INTERVAL;VALUE=DURATION:PT1H
X-Robots-Tag:noindex
X-PUBLISHED-TTL:PT1H
BEGIN:VTIMEZONE
TZID:Europe/Madrid
BEGIN:DAYLIGHT
TZOFFSETFROM:+0100
TZOFFSETTO:+0200
TZNAME:CEST
DTSTART:20250330T010000
END:DAYLIGHT
BEGIN:STANDARD
TZOFFSETFROM:+0200
TZOFFSETTO:+0100
TZNAME:CET
DTSTART:20251026T010000
END:STANDARD
BEGIN:DAYLIGHT
TZOFFSETFROM:+0100
TZOFFSETTO:+0200
TZNAME:CEST
DTSTART:20260329T010000
END:DAYLIGHT
BEGIN:STANDARD
TZOFFSETFROM:+0200
TZOFFSETTO:+0100
TZNAME:CET
DTSTART:20261025T010000
END:STANDARD
BEGIN:DAYLIGHT
TZOFFSETFROM:+0100
TZOFFSETTO:+0200
TZNAME:CEST
DTSTART:20270328T010000
END:DAYLIGHT
BEGIN:STANDARD
TZOFFSETFROM:+0200
TZOFFSETTO:+0100
TZNAME:CET
DTSTART:20271031T010000
END:STANDARD
END:VTIMEZONE
BEGIN:VEVENT
DTSTART;VALUE=DATE:20260425
DTEND;VALUE=DATE:20260426
DTSTAMP:20260421T144024
CREATED:20251108T102342Z
LAST-MODIFIED:20260226T124504Z
UID:5143-1777075200-1777161599@centrolenguasalmeria.com
SUMMARY:APTIS ESOL Roquetas de Mar AM
DESCRIPTION:APTIS ESOL. Sesión AM (10:00 – 14:00). Inscripciones abiertas.
URL:https://centrolenguasalmeria.com/event/aptis-esol-roquetas-de-mar-am-6/
LOCATION:Centro de Lenguas Almeria (Roquetas de Mar)\, Avenida Reino de España\, 80\, Roquetas de Mar\, Almería\, 04740\, España
ATTACH;FMTTYPE=image/png:https://centrolenguasalmeria.com/wp-content/uploads/2025/11/Aptis-ESOL_Test-Venue-scaled.png
END:VEVENT
BEGIN:VEVENT
DTSTART;VALUE=DATE:20260425
DTEND;VALUE=DATE:20260426
DTSTAMP:20260421T144024
CREATED:20260216T122733Z
LAST-MODIFIED:20260226T124659Z
UID:5366-1777075200-1777161599@centrolenguasalmeria.com
SUMMARY:APTIS ESOL Roquetas de Mar PM
DESCRIPTION:APTIS ESOL. Sesión PM (15:00 – 19:00). Inscripciones abiertas.
URL:https://centrolenguasalmeria.com/event/aptis-esol-roquetas-de-mar-pm-2/
LOCATION:Centro de Lenguas Almeria (Roquetas de Mar)\, Avenida Reino de España\, 80\, Roquetas de Mar\, Almería\, 04740\, España
ATTACH;FMTTYPE=image/png:https://centrolenguasalmeria.com/wp-content/uploads/2025/11/Aptis-ESOL_Test-Venue-scaled.png
END:VEVENT
END:VCALENDAR